BEGIN:VCALENDAR
VERSION:2.0
PRODID:-//KR Lifesaving - ECPv5.0.3.1//NONSGML v1.0//EN
CALSCALE:GREGORIAN
METHOD:PUBLISH
X-WR-CALNAME:KR Lifesaving
X-ORIGINAL-URL:http://krlifesaving.com
X-WR-CALDESC:Events for KR Lifesaving
BEGIN:VTIMEZONE
TZID:America/Detroit
BEGIN:DAYLIGHT
TZOFFSETFROM:-0500
TZOFFSETTO:-0400
TZNAME:EDT
DTSTART:20230312T070000
END:DAYLIGHT
BEGIN:STANDARD
TZOFFSETFROM:-0400
TZOFFSETTO:-0500
TZNAME:EST
DTSTART:20231105T060000
END:STANDARD
END:VTIMEZONE
BEGIN:VEVENT
DTSTART;TZID=America/Detroit:20230126T180000
DTEND;TZID=America/Detroit:20230126T233000
DTSTAMP:20260423T061137
CREATED:20230114T162712Z
LAST-MODIFIED:20230114T162712Z
UID:19556-1674756000-1674775800@krlifesaving.com
SUMMARY:Standard First Aid with CPR Level C\, BLS and AED
DESCRIPTION:Must complete Online course prior to attending this In Class session \n
URL:http://krlifesaving.com/course/standard-first-aid-with-cpr-level-c-bls-and-aed-7/
LOCATION:Belfor\, 1950 Halford\, Windsor\, Ontario\, N9A 6J3\, Canada
END:VEVENT
END:VCALENDAR