BEGIN:VCALENDAR
VERSION:2.0
PRODID:-//KR Lifesaving - ECPv5.0.3.1//NONSGML v1.0//EN
CALSCALE:GREGORIAN
METHOD:PUBLISH
X-WR-CALNAME:KR Lifesaving
X-ORIGINAL-URL:http://krlifesaving.com
X-WR-CALDESC:Events for KR Lifesaving
BEGIN:VTIMEZONE
TZID:America/Detroit
BEGIN:DAYLIGHT
TZOFFSETFROM:-0500
TZOFFSETTO:-0400
TZNAME:EDT
DTSTART:20230312T070000
END:DAYLIGHT
BEGIN:STANDARD
TZOFFSETFROM:-0400
TZOFFSETTO:-0500
TZNAME:EST
DTSTART:20231105T060000
END:STANDARD
END:VTIMEZONE
BEGIN:VEVENT
DTSTART;TZID=America/Detroit:20230922T170000
DTEND;TZID=America/Detroit:20230922T233000
DTSTAMP:20260422T194243
CREATED:20230907T124748Z
LAST-MODIFIED:20230907T124748Z
UID:19811-1695402000-1695425400@krlifesaving.com
SUMMARY:Standard First Aid with CPR C Lay Rescuer and AED
DESCRIPTION:MUST complete the Online course prior to attending this In Class Session \n
URL:http://krlifesaving.com/course/standard-first-aid-with-cpr-c-lay-rescuer-and-aed/
LOCATION:Belfor\, 1950 Halford\, Windsor\, Ontario\, N9A 6J3\, Canada
END:VEVENT
END:VCALENDAR