BEGIN:VCALENDAR
VERSION:2.0
PRODID:-//KR Lifesaving - ECPv5.0.3.1//NONSGML v1.0//EN
CALSCALE:GREGORIAN
METHOD:PUBLISH
X-WR-CALNAME:KR Lifesaving
X-ORIGINAL-URL:http://krlifesaving.com
X-WR-CALDESC:Events for KR Lifesaving
BEGIN:VTIMEZONE
TZID:America/Detroit
BEGIN:DAYLIGHT
TZOFFSETFROM:-0500
TZOFFSETTO:-0400
TZNAME:EDT
DTSTART:20240310T070000
END:DAYLIGHT
BEGIN:STANDARD
TZOFFSETFROM:-0400
TZOFFSETTO:-0500
TZNAME:EST
DTSTART:20241103T060000
END:STANDARD
END:VTIMEZONE
BEGIN:VEVENT
DTSTART;TZID=America/Detroit:20240907T120000
DTEND;TZID=America/Detroit:20240907T190000
DTSTAMP:20260420T040332
CREATED:20240808T143310Z
LAST-MODIFIED:20240808T143310Z
UID:20159-1725710400-1725735600@krlifesaving.com
SUMMARY:Standard First Aid Recertification with Level C CPR and AED
DESCRIPTION:Standard First Aid with CPR level C and AED \n
URL:http://krlifesaving.com/course/standard-first-aid-recertification-with-level-c-cpr-and-aed/
LOCATION:Belfor\, 1950 Halford\, Windsor\, Ontario\, N9A 6J3\, Canada
END:VEVENT
END:VCALENDAR