BEGIN:VCALENDAR
VERSION:2.0
PRODID:-//KR Lifesaving - ECPv5.0.3.1//NONSGML v1.0//EN
CALSCALE:GREGORIAN
METHOD:PUBLISH
X-WR-CALNAME:KR Lifesaving
X-ORIGINAL-URL:http://krlifesaving.com
X-WR-CALDESC:Events for KR Lifesaving
BEGIN:VTIMEZONE
TZID:America/Detroit
BEGIN:DAYLIGHT
TZOFFSETFROM:-0500
TZOFFSETTO:-0400
TZNAME:EDT
DTSTART:20240310T070000
END:DAYLIGHT
BEGIN:STANDARD
TZOFFSETFROM:-0400
TZOFFSETTO:-0500
TZNAME:EST
DTSTART:20241103T060000
END:STANDARD
END:VTIMEZONE
BEGIN:VEVENT
DTSTART;TZID=America/Detroit:20240906T170000
DTEND;TZID=America/Detroit:20240906T233000
DTSTAMP:20260420T040251
CREATED:20240813T142612Z
LAST-MODIFIED:20240813T142612Z
UID:20169-1725642000-1725665400@krlifesaving.com
SUMMARY:Standard First Aid CPR BLS and AED Recertification
DESCRIPTION:Standard First Aid Recertification with CPR BLS and AED \n
URL:http://krlifesaving.com/course/standard-first-aid-cpr-bls-and-aed-recertification-2/
LOCATION:Belfor\, 1950 Halford\, Windsor\, Ontario\, N9A 6J3\, Canada
END:VEVENT
END:VCALENDAR