BEGIN:VCALENDAR
VERSION:2.0
PRODID:-//KR Lifesaving - ECPv5.0.3.1//NONSGML v1.0//EN
CALSCALE:GREGORIAN
METHOD:PUBLISH
X-WR-CALNAME:KR Lifesaving
X-ORIGINAL-URL:http://krlifesaving.com
X-WR-CALDESC:Events for KR Lifesaving
BEGIN:VTIMEZONE
TZID:America/Detroit
BEGIN:DAYLIGHT
TZOFFSETFROM:-0500
TZOFFSETTO:-0400
TZNAME:EDT
DTSTART:20220313T070000
END:DAYLIGHT
BEGIN:STANDARD
TZOFFSETFROM:-0400
TZOFFSETTO:-0500
TZNAME:EST
DTSTART:20221106T060000
END:STANDARD
END:VTIMEZONE
BEGIN:VEVENT
DTSTART;VALUE=DATE:20221114
DTEND;VALUE=DATE:20221115
DTSTAMP:20260423T091347
CREATED:20221009T134953Z
LAST-MODIFIED:20221009T134953Z
UID:19457-1668384000-1668470399@krlifesaving.com
SUMMARY:Online Standard First Aid with CPR Level C \, BLS and AED
DESCRIPTION:Must complete the In Class practical skills session to complete the course. \n
URL:http://krlifesaving.com/course/online-standard-first-aid-with-cpr-level-c-bls-and-aed-2/
END:VEVENT
END:VCALENDAR