BEGIN:VCALENDAR
VERSION:2.0
PRODID:-//KR Lifesaving - ECPv5.0.3.1//NONSGML v1.0//EN
CALSCALE:GREGORIAN
METHOD:PUBLISH
X-WR-CALNAME:KR Lifesaving
X-ORIGINAL-URL:http://krlifesaving.com
X-WR-CALDESC:Events for KR Lifesaving
BEGIN:VTIMEZONE
TZID:America/Detroit
BEGIN:DAYLIGHT
TZOFFSETFROM:-0500
TZOFFSETTO:-0400
TZNAME:EDT
DTSTART:20250309T070000
END:DAYLIGHT
BEGIN:STANDARD
TZOFFSETFROM:-0400
TZOFFSETTO:-0500
TZNAME:EST
DTSTART:20251102T060000
END:STANDARD
END:VTIMEZONE
BEGIN:VEVENT
DTSTART;VALUE=DATE:20250316
DTEND;VALUE=DATE:20250317
DTSTAMP:20260419T195230
CREATED:20250310T152653Z
LAST-MODIFIED:20250310T152653Z
UID:20332-1742083200-1742169599@krlifesaving.com
SUMMARY:Online Standard First Aid with CPR Level C and AED
DESCRIPTION:Must complete the In Class training to receive certification. \n
URL:http://krlifesaving.com/course/online-standard-first-aid-with-cpr-level-c-and-aed-2/
END:VEVENT
END:VCALENDAR