BEGIN:VCALENDAR
VERSION:2.0
PRODID:-//KR Lifesaving - ECPv5.0.3.1//NONSGML v1.0//EN
CALSCALE:GREGORIAN
METHOD:PUBLISH
X-WR-CALNAME:KR Lifesaving
X-ORIGINAL-URL:http://krlifesaving.com
X-WR-CALDESC:Events for KR Lifesaving
BEGIN:VTIMEZONE
TZID:America/Detroit
BEGIN:DAYLIGHT
TZOFFSETFROM:-0500
TZOFFSETTO:-0400
TZNAME:EDT
DTSTART:20240310T070000
END:DAYLIGHT
BEGIN:STANDARD
TZOFFSETFROM:-0400
TZOFFSETTO:-0500
TZNAME:EST
DTSTART:20241103T060000
END:STANDARD
END:VTIMEZONE
BEGIN:VEVENT
DTSTART;VALUE=DATE:20240107
DTEND;VALUE=DATE:20240108
DTSTAMP:20260420T013225
CREATED:20231224T141045Z
LAST-MODIFIED:20231224T141045Z
UID:19945-1704585600-1704671999@krlifesaving.com
SUMMARY:Online Standard First Aid with CPR and AED
DESCRIPTION:MUST complete the IN CLASS skills training session to complete the course \n
URL:http://krlifesaving.com/course/online-standard-first-aid-with-cpr-and-aed-2/
END:VEVENT
END:VCALENDAR