BEGIN:VCALENDAR
VERSION:2.0
PRODID:-//KR Lifesaving - ECPv5.0.3.1//NONSGML v1.0//EN
CALSCALE:GREGORIAN
METHOD:PUBLISH
X-WR-CALNAME:KR Lifesaving
X-ORIGINAL-URL:http://krlifesaving.com
X-WR-CALDESC:Events for KR Lifesaving
BEGIN:VTIMEZONE
TZID:America/Detroit
BEGIN:DAYLIGHT
TZOFFSETFROM:-0500
TZOFFSETTO:-0400
TZNAME:EDT
DTSTART:20230312T070000
END:DAYLIGHT
BEGIN:STANDARD
TZOFFSETFROM:-0400
TZOFFSETTO:-0500
TZNAME:EST
DTSTART:20231105T060000
END:STANDARD
END:VTIMEZONE
BEGIN:VEVENT
DTSTART;VALUE=DATE:20231119
DTEND;VALUE=DATE:20231120
DTSTAMP:20260422T170635
CREATED:20231028T120423Z
LAST-MODIFIED:20231028T120423Z
UID:19880-1700352000-1700438399@krlifesaving.com
SUMMARY:Online (Blended) Standard First Aid with CPR C Lay Rescuer and AED
DESCRIPTION:MUST complete the In Class training session to complete the course \n
URL:http://krlifesaving.com/course/online-blended-standard-first-aid-with-cpr-c-lay-rescuer-and-aed/
END:VEVENT
END:VCALENDAR