BEGIN:VCALENDAR
VERSION:2.0
PRODID:-//KR Lifesaving - ECPv5.0.3.1//NONSGML v1.0//EN
CALSCALE:GREGORIAN
METHOD:PUBLISH
X-WR-CALNAME:KR Lifesaving
X-ORIGINAL-URL:http://krlifesaving.com
X-WR-CALDESC:Events for KR Lifesaving
BEGIN:VTIMEZONE
TZID:America/Detroit
BEGIN:DAYLIGHT
TZOFFSETFROM:-0500
TZOFFSETTO:-0400
TZNAME:EDT
DTSTART:20240310T070000
END:DAYLIGHT
BEGIN:STANDARD
TZOFFSETFROM:-0400
TZOFFSETTO:-0500
TZNAME:EST
DTSTART:20241103T060000
END:STANDARD
END:VTIMEZONE
BEGIN:VEVENT
DTSTART;TZID=America/Detroit:20240816T173000
DTEND;TZID=America/Detroit:20240816T233000
DTSTAMP:20260419T121936
CREATED:20240725T142352Z
LAST-MODIFIED:20240725T142352Z
UID:20140-1723829400-1723851000@krlifesaving.com
SUMMARY:IN CLASS Standard First Aid with CPR BLS and AED
DESCRIPTION:MUST complete the Online training course prior to attending this session. \n
URL:http://krlifesaving.com/course/in-class-standard-first-aid-with-cpr-bls-and-aed-5/
LOCATION:Belfor\, 1950 Halford\, Windsor\, Ontario\, N9A 6J3\, Canada
END:VEVENT
END:VCALENDAR