BEGIN:VCALENDAR
VERSION:2.0
PRODID:-//KR Lifesaving - ECPv5.0.3.1//NONSGML v1.0//EN
CALSCALE:GREGORIAN
METHOD:PUBLISH
X-WR-CALNAME:KR Lifesaving
X-ORIGINAL-URL:http://krlifesaving.com
X-WR-CALDESC:Events for KR Lifesaving
BEGIN:VTIMEZONE
TZID:America/Detroit
BEGIN:DAYLIGHT
TZOFFSETFROM:-0500
TZOFFSETTO:-0400
TZNAME:EDT
DTSTART:20240310T070000
END:DAYLIGHT
BEGIN:STANDARD
TZOFFSETFROM:-0400
TZOFFSETTO:-0500
TZNAME:EST
DTSTART:20241103T060000
END:STANDARD
END:VTIMEZONE
BEGIN:VEVENT
DTSTART;TZID=America/Detroit:20241102T120000
DTEND;TZID=America/Detroit:20241102T190000
DTSTAMP:20260420T011617
CREATED:20241017T124637Z
LAST-MODIFIED:20241017T124637Z
UID:20222-1730548800-1730574000@krlifesaving.com
SUMMARY:Emergency First Aid with CPR Level C and AED
DESCRIPTION:Emergency First Aid with CPR Level C and AED \n
URL:http://krlifesaving.com/course/emergency-first-aid-with-cpr-level-c-and-aed-38/
LOCATION:Belfor\, 1950 Halford\, Windsor\, Ontario\, N9A 6J3\, Canada
END:VEVENT
END:VCALENDAR