BEGIN:VCALENDAR
VERSION:2.0
PRODID:-//KR Lifesaving - ECPv5.0.3.1//NONSGML v1.0//EN
CALSCALE:GREGORIAN
METHOD:PUBLISH
X-WR-CALNAME:KR Lifesaving
X-ORIGINAL-URL:http://krlifesaving.com
X-WR-CALDESC:Events for KR Lifesaving
BEGIN:VTIMEZONE
TZID:America/Detroit
BEGIN:DAYLIGHT
TZOFFSETFROM:-0500
TZOFFSETTO:-0400
TZNAME:EDT
DTSTART:20250309T070000
END:DAYLIGHT
BEGIN:STANDARD
TZOFFSETFROM:-0400
TZOFFSETTO:-0500
TZNAME:EST
DTSTART:20251102T060000
END:STANDARD
END:VTIMEZONE
BEGIN:VEVENT
DTSTART;TZID=America/Detroit:20250109T170000
DTEND;TZID=America/Detroit:20250109T233000
DTSTAMP:20260419T222726
CREATED:20250108T231721Z
LAST-MODIFIED:20250108T231721Z
UID:20269-1736442000-1736465400@krlifesaving.com
SUMMARY:Standard First Aid with CPR Level BLS Level C Recertification
DESCRIPTION:Standard First Aid with CPR BLS Level C Recertification \n
URL:http://krlifesaving.com/course/standard-first-aid-with-cpr-level-bls-level-c-recertification/
LOCATION:860 Bouffard Road\,LaSalle\, 860 Bouffard Road\, LaSalle\, ON\, N9J 3K2\, Canada
END:VEVENT
END:VCALENDAR