BEGIN:VCALENDAR
VERSION:2.0
PRODID:-//KR Lifesaving - ECPv5.0.3.1//NONSGML v1.0//EN
CALSCALE:GREGORIAN
METHOD:PUBLISH
X-WR-CALNAME:KR Lifesaving
X-ORIGINAL-URL:http://krlifesaving.com
X-WR-CALDESC:Events for KR Lifesaving
BEGIN:VTIMEZONE
TZID:America/Detroit
BEGIN:DAYLIGHT
TZOFFSETFROM:-0500
TZOFFSETTO:-0400
TZNAME:EDT
DTSTART:20240310T070000
END:DAYLIGHT
BEGIN:STANDARD
TZOFFSETFROM:-0400
TZOFFSETTO:-0500
TZNAME:EST
DTSTART:20241103T060000
END:STANDARD
END:VTIMEZONE
BEGIN:VEVENT
DTSTART;TZID=America/Detroit:20240829T170000
DTEND;TZID=America/Detroit:20240829T233000
DTSTAMP:20260420T040235
CREATED:20240808T143800Z
LAST-MODIFIED:20240808T143800Z
UID:20161-1724950800-1724974200@krlifesaving.com
SUMMARY:Standard First Aid CPR BLS Recertification and AED
DESCRIPTION:Standard First Aid CPR BLS Recertification and AED \n
URL:http://krlifesaving.com/course/standard-first-aid-cpr-bls-recertification-and-aed-2/
LOCATION:Belfor\, 1950 Halford\, Windsor\, Ontario\, N9A 6J3\, Canada
END:VEVENT
BEGIN:VEVENT
DTSTART;TZID=America/Detroit:20240829T180000
DTEND;TZID=America/Detroit:20240829T200000
DTSTAMP:20260420T040235
CREATED:20240725T141947Z
LAST-MODIFIED:20240725T141947Z
UID:20134-1724954400-1724961600@krlifesaving.com
SUMMARY:CPR BLS Recertification and AED
DESCRIPTION:CPR BLS Recertification and AED \n
URL:http://krlifesaving.com/course/cpr-bls-recertification-and-aed-37/
LOCATION:Belfor\, 1950 Halford\, Windsor\, Ontario\, N9A 6J3\, Canada
END:VEVENT
BEGIN:VEVENT
DTSTART;TZID=America/Detroit:20240829T180000
DTEND;TZID=America/Detroit:20240829T200000
DTSTAMP:20260420T040235
CREATED:20240725T142046Z
LAST-MODIFIED:20240725T142046Z
UID:20136-1724954400-1724961600@krlifesaving.com
SUMMARY:CPR Level C Lay Rescuer and AED
DESCRIPTION:CPR Level C Lay Rescuer and AED \n
URL:http://krlifesaving.com/course/cpr-level-c-lay-rescuer-and-aed-17/
LOCATION:Belfor\, 1950 Halford\, Windsor\, Ontario\, N9A 6J3\, Canada
END:VEVENT
END:VCALENDAR