BEGIN:VCALENDAR
VERSION:2.0
PRODID:-//KR Lifesaving - ECPv5.0.3.1//NONSGML v1.0//EN
CALSCALE:GREGORIAN
METHOD:PUBLISH
X-WR-CALNAME:KR Lifesaving
X-ORIGINAL-URL:http://krlifesaving.com
X-WR-CALDESC:Events for KR Lifesaving
BEGIN:VTIMEZONE
TZID:America/Detroit
BEGIN:DAYLIGHT
TZOFFSETFROM:-0500
TZOFFSETTO:-0400
TZNAME:EDT
DTSTART:20230312T070000
END:DAYLIGHT
BEGIN:STANDARD
TZOFFSETFROM:-0400
TZOFFSETTO:-0500
TZNAME:EST
DTSTART:20231105T060000
END:STANDARD
END:VTIMEZONE
BEGIN:VEVENT
DTSTART;TZID=America/Detroit:20230615T180000
DTEND;TZID=America/Detroit:20230615T233000
DTSTAMP:20260422T232254
CREATED:20230601T181212Z
LAST-MODIFIED:20230601T181212Z
UID:19691-1686852000-1686871800@krlifesaving.com
SUMMARY:Standard First Aid with CPR Level C and AED Recertification
DESCRIPTION:Standard First Aid with CPR Level C and AED Recertification  \n
URL:http://krlifesaving.com/course/standard-first-aid-with-cpr-level-c-and-aed-recertification/
LOCATION:Belfor\, 1950 Halford\, Windsor\, Ontario\, N9A 6J3\, Canada
END:VEVENT
BEGIN:VEVENT
DTSTART;TZID=America/Detroit:20230615T180000
DTEND;TZID=America/Detroit:20230615T200000
DTSTAMP:20260422T232254
CREATED:20230601T181345Z
LAST-MODIFIED:20230601T181345Z
UID:19693-1686852000-1686859200@krlifesaving.com
SUMMARY:CPR level C and  AED
DESCRIPTION:CPR level C and AED \n
URL:http://krlifesaving.com/course/cpr-level-c-and-aed-91/
LOCATION:Belfor\, 1950 Halford\, Windsor\, Ontario\, N9A 6J3\, Canada
END:VEVENT
BEGIN:VEVENT
DTSTART;TZID=America/Detroit:20230615T180000
DTEND;TZID=America/Detroit:20230615T230000
DTSTAMP:20260422T232254
CREATED:20230601T181501Z
LAST-MODIFIED:20230601T181501Z
UID:19695-1686852000-1686870000@krlifesaving.com
SUMMARY:Emergency First Aid with CPR C and AED
DESCRIPTION:Emergency First Aid with CPR C and AED \n
URL:http://krlifesaving.com/course/emergency-first-aid-with-cpr-c-and-aed-2/
LOCATION:Belfor\, 1950 Halford\, Windsor\, Ontario\, N9A 6J3\, Canada
END:VEVENT
END:VCALENDAR