BEGIN:VCALENDAR
VERSION:2.0
PRODID:-//KR Lifesaving - ECPv5.0.3.1//NONSGML v1.0//EN
CALSCALE:GREGORIAN
METHOD:PUBLISH
X-WR-CALNAME:KR Lifesaving
X-ORIGINAL-URL:http://krlifesaving.com
X-WR-CALDESC:Events for KR Lifesaving
BEGIN:VTIMEZONE
TZID:America/Detroit
BEGIN:DAYLIGHT
TZOFFSETFROM:-0500
TZOFFSETTO:-0400
TZNAME:EDT
DTSTART:20230312T070000
END:DAYLIGHT
BEGIN:STANDARD
TZOFFSETFROM:-0400
TZOFFSETTO:-0500
TZNAME:EST
DTSTART:20231105T060000
END:STANDARD
END:VTIMEZONE
BEGIN:VEVENT
DTSTART;TZID=America/Detroit:20230526T173000
DTEND;TZID=America/Detroit:20230526T233000
DTSTAMP:20260423T003846
CREATED:20230428T172625Z
LAST-MODIFIED:20230428T172625Z
UID:19664-1685122200-1685143800@krlifesaving.com
SUMMARY:Standard First Aid with CPR C and AED (Blended program)
DESCRIPTION:Must complete the Online course prior to attending the In Class skills training session \n
URL:http://krlifesaving.com/course/standard-first-aid-with-cpr-c-and-aed-blended-program/
LOCATION:Belfor\, 1950 Halford\, Windsor\, Ontario\, N9A 6J3\, Canada
END:VEVENT
BEGIN:VEVENT
DTSTART;TZID=America/Detroit:20230526T180000
DTEND;TZID=America/Detroit:20230526T200000
DTSTAMP:20260423T003846
CREATED:20230505T123830Z
LAST-MODIFIED:20230505T123830Z
UID:19674-1685124000-1685131200@krlifesaving.com
SUMMARY:CPR C and AED
DESCRIPTION:CPR C and AED \n
URL:http://krlifesaving.com/course/cpr-c-and-aed/
LOCATION:Belfor\, 1950 Halford\, Windsor\, Ontario\, N9A 6J3\, Canada
END:VEVENT
END:VCALENDAR