BEGIN:VCALENDAR
VERSION:2.0
PRODID:-//KR Lifesaving - ECPv5.0.3.1//NONSGML v1.0//EN
CALSCALE:GREGORIAN
METHOD:PUBLISH
X-WR-CALNAME:KR Lifesaving
X-ORIGINAL-URL:http://krlifesaving.com
X-WR-CALDESC:Events for KR Lifesaving
BEGIN:VTIMEZONE
TZID:America/Detroit
BEGIN:DAYLIGHT
TZOFFSETFROM:-0500
TZOFFSETTO:-0400
TZNAME:EDT
DTSTART:20230312T070000
END:DAYLIGHT
BEGIN:STANDARD
TZOFFSETFROM:-0400
TZOFFSETTO:-0500
TZNAME:EST
DTSTART:20231105T060000
END:STANDARD
END:VTIMEZONE
BEGIN:VEVENT
DTSTART;VALUE=DATE:20230423
DTEND;VALUE=DATE:20230424
DTSTAMP:20260423T015658
CREATED:20230415T130130Z
LAST-MODIFIED:20230415T130130Z
UID:19659-1682208000-1682294399@krlifesaving.com
SUMMARY:Online Standard First Aid with CPR Level C and AED Blended
DESCRIPTION:Must complete the IN CLASS practical training session to complete the course \n
URL:http://krlifesaving.com/course/online-standard-first-aid-with-cpr-level-c-and-aed-blended/
END:VEVENT
END:VCALENDAR