BEGIN:VCALENDAR
VERSION:2.0
PRODID:-//KR Lifesaving - ECPv5.0.3.1//NONSGML v1.0//EN
CALSCALE:GREGORIAN
METHOD:PUBLISH
X-WR-CALNAME:KR Lifesaving
X-ORIGINAL-URL:http://krlifesaving.com
X-WR-CALDESC:Events for KR Lifesaving
BEGIN:VTIMEZONE
TZID:America/Detroit
BEGIN:DAYLIGHT
TZOFFSETFROM:-0500
TZOFFSETTO:-0400
TZNAME:EDT
DTSTART:20230312T070000
END:DAYLIGHT
BEGIN:STANDARD
TZOFFSETFROM:-0400
TZOFFSETTO:-0500
TZNAME:EST
DTSTART:20231105T060000
END:STANDARD
END:VTIMEZONE
BEGIN:VEVENT
DTSTART;TZID=America/Detroit:20230202T080000
DTEND;TZID=America/Detroit:20230202T230000
DTSTAMP:20260423T044337
CREATED:20230119T141548Z
LAST-MODIFIED:20230122T164530Z
UID:19568-1675324800-1675378800@krlifesaving.com
SUMMARY:Standard First Aid Recertification with CPR BLS\, Level C and AED
DESCRIPTION:Standard First Aid Recertification with CPR BLS\, Level C and AED \n
URL:http://krlifesaving.com/course/standard-first-aid-recertification-with-cpr-bls-level-c-and-aed-44/
LOCATION:Belfor\, 1950 Halford\, Windsor\, Ontario\, N9A 6J3\, Canada
END:VEVENT
BEGIN:VEVENT
DTSTART;TZID=America/Detroit:20230202T180000
DTEND;TZID=America/Detroit:20230202T200000
DTSTAMP:20260423T044337
CREATED:20230119T134002Z
LAST-MODIFIED:20230122T164509Z
UID:19560-1675360800-1675368000@krlifesaving.com
SUMMARY:CPR BLS Recertification with AED
DESCRIPTION:CPR BLS Recertification with AED \n
URL:http://krlifesaving.com/course/cpr-bls-recertification-with-aed-116/
LOCATION:Belfor\, 1950 Halford\, Windsor\, Ontario\, N9A 6J3\, Canada
END:VEVENT
END:VCALENDAR